Workbook

Sheet Major
A1: “Major Changes View” of Sleepy Hollow's 2016-17 Mayor's Budget
A2: by Daniel Convissor, danielc@panix.com, @DanielConvissor. April 19, 2016.
A3: Expenditure/Revenue totals are based on my “Clarified View” (see next page)
B5: 2015/2016 | C5: 2016/2017 | F5: % of Sect. | G5: % of Total
B6: Final | C6: Mayor's | D6: Change | E6: Change | F6: Change | G6: Change
A8: General Fund Expenditures | B8: =+Clarified!B21 -> 16127716 | C8: =+Clarified!C21 -> 16684408 | D8: =+C8-B8 -> 556692 | E8: =+D8/B8 -> 0.034517721
A10: General Govt. Support | B10: =+Clarified!B12 -> 2372654 | C10: =+Clarified!C12 -> 2455564 | D10: =Major!C10-Major!B10 -> 82910
A11: Trustee Salary (A1010.100) | B11: 28500 | C11: 36000 | D11: =Major!C11-Major!B11 -> 7500 | E11: =IF(B11=0,NA(),D11/B11) -> 0.26315789 | F11: =D11/D$10 -> 0.090459534 | G11: =+D11/D$8 -> 0.013472441
A12: $4,750 -> $6,000
A13: Clerk's Office, Wages (A1410.100) | B13: 120327 | C13: 129829 | D13: =Major!C13-Major!B13 -> 9502 | E13: =IF(B13=0,NA(),D13/B13) -> 0.078968145 | F13: =D13/D$10 -> 0.1146062 | G13: =+D13/D$8 -> 0.017068684
A14: Move one person from part time to full time
A15: Insurance (A1910.400) | B15: 200000 | C15: 239713 | D15: =Major!C15-Major!B15 -> 39713 | E15: =IF(B15=0,NA(),D15/B15) -> 0.198565 | F15: =D15/D$10 -> 0.47898927 | G15: =+D15/D$8 -> 0.071337472
A16: Premium cost increases, plus new vehicles
A17: Financial | B17: 340685 | C17: 350185 | D17: =Major!C17-Major!B17 -> 9500 | E17: =IF(B17=0,NA(),D17/B17) -> 0.027884996 | F17: =D17/D$10 -> 0.11458208 | G17: =+D17/D$8 -> 0.017065092
A18: Several minor increases
A20: Public Safety | B20: =+Clarified!B13 -> 4462070 | C20: =+Clarified!C13 -> 4786701 | D20: =Major!C20-Major!B20 -> 324631
A21: Police, Wages (A3120.1) | B21: 3459156 | C21: 3767281 | D21: =Major!C21-Major!B21 -> 308125 | E21: =IF(B21=0,NA(),D21/B21) -> 0.089075196 | F21: =D21/D$20 -> 0.94915458 | G21: =+D21/D$8 -> 0.55349278
A22: New union contract, haven't received raise in a few years
A23: Fire, Protective Gear (A3410.425) | B23: 10000 | C23: 20000 | D23: =Major!C23-Major!B23 -> 10000 | E23: =IF(B23=0,NA(),D23/B23) -> 1 | F23: =D23/D$20 -> 0.030804205 | G23: =+D23/D$8 -> 0.017963254
A24: Required equipment for new members
A26: Transportation | B26: =+Clarified!B15 -> 1171699 | C26: =+Clarified!C15 -> 1240496 | D26: =Major!C26-Major!B26 -> 68797
A27: Street Lighting (A5182.400) | B27: 130000 | C27: 210000 | D27: =Major!C27-Major!B27 -> 80000 | E27: =IF(B27=0,NA(),D27/B27) -> 0.61538462 | F27: =D27/D$26 -> 1.1628414 | G27: =+D27/D$8 -> 0.14370603
A28: Convert street lighting to LED's
A30: Culture and Recreation | B30: =+Clarified!B17 -> 1603455 | C30: =+Clarified!C17 -> 1665223 | D30: =Major!C30-Major!B30 -> 61768
A31: Parks Maint., Contractual (A7110.400) | B31: 67700 | C31: 84200 | D31: =Major!C31-Major!B31 -> 16500 | E31: =IF(B31=0,NA(),D31/B31) -> 0.2437223 | F31: =D31/D$30 -> 0.26712861 | G31: =+D31/D$8 -> 0.02963937
A32: Flowers for Beekman Ave (matches funds raised by Chamber of Commerce), increased maintenance in Kingsland (Devries & Barnhardt)
A33: Community Opportunity Ctr. (A7989.479) | B33: 10000 | C33: 20000 | D33: =Major!C33-Major!B33 -> 10000 | E33: =IF(B33=0,NA(),D33/B33) -> 1 | F33: =D33/D$30 -> 0.16189613 | G33: =+D33/D$8 -> 0.017963254
A34: “Basketball Nights” youth program
A35: Youth, Materials & Supplies (A3710.410) | B35: 0 | C35: 25000 | D35: =Major!C35-Major!B35 -> 25000 | E35: =IF(B35=0,NA(),D35/B35) -> #N/A | F35: =D35/D$30 -> 0.40474032 | G35: =+D35/D$8 -> 0.044908136
A36: Equipment for all sports, not just baseball
A39: Water Fund Expenses | B39: =+Clarified!B26 -> 2646905 | C39: =+Clarified!C26 -> 2908090 | D39: =+C39-B39 -> 261185 | E39: =+D39/B39 -> 0.098675623
A41: Water Purchase (F8320.467) | B41: 1050000 | C41: 1200000 | D41: =Major!C41-Major!B41 -> 150000 | E41: =IF(B41=0,NA(),D41/B41) -> 0.14285714 | F41: =+D41/D$39 -> 0.57430557
A42: (Overly?) conservative budgeting. Actual spending is much lower ($630k - $930k)
A43: Transmission, Personal Svcs. (F8340.100) | B43: 407757 | C43: 486526 | D43: =Major!C43-Major!B43 -> 78769 | E43: =IF(B43=0,NA(),D43/B43) -> 0.19317633 | F43: =+D43/D$39 -> 0.30158317
A44: New employee, plus raises
A47: General Fund Revenues | B47: =+Clarified!B45 -> 15632596 | C47: =+Clarified!C45 -> 16210616 | D47: =+C47-B47 -> 578020 | E47: =+D47/B47 -> 0.036975305
A49: Property Taxes | B49: 11846289 | C49: 12496699 | D49: =Major!C49-Major!B49 -> 650410 | E49: =IF(B49=0,NA(),D49/B49) -> 0.054904114 | G49: =+D49/D$47 -> 1.1252379
A50: Bails & Fines (A2610) | B50: 90000 | C50: 50000 | D50: =Major!C50-Major!B50 -> -40000 | E50: =IF(B50=0,NA(),D50/B50) -> -0.44444444 | G50: =+D50/D$47 -> -0.069201758
A51: Building Fines (A2610.1) | B51: 50000 | C51: 25000 | D51: =Major!C51-Major!B51 -> -25000 | E51: =IF(B51=0,NA(),D51/B51) -> -0.5 | G51: =+D51/D$47 -> -0.043251099

Sheet Clarified
A1: “Clarified View” of Sleepy Hollow's 2016-17 Mayor's Budget
A2: by Daniel Convissor, danielc@panix.com, @DanielConvissor. April 19, 2016.
A3: Note: “Public Safety” “2015-16 Final” number here is correct. The 2015-2016 number in the Mayor's Budget is a typo.
A4: Items Subtracted in this View
A5: * Contingency | B5: 330500 | C5: 200000 | D5: Not a “real” expense
A6: ** Sports Camp | B6: 0 | C6: 75000 | D6: Program is self-funding
A7: ** Celebrations, Personal Services | B7: 0 | C7: 20000 | D7: New line for accounting purposes, not new funding
B9: 2015-2016 | C9: 2016-2017 | F9: % of Sect. | G9: % of Total
B10: Final | C10: Mayor's | D10: Change | E10: Change | F10: Change | G10: Change
A11: General Fund Expenses
A12: General Govt. Support * | B12: =+Standard!B8-B5 -> 2372654 | C12: =+Standard!C8-C5 -> 2455564 | D12: =+C12-B12 -> 82910 | E12: =IF(B12=0,NA(),D12/B12) -> 0.034943991 | F12: =D12/D$21 -> 0.14893334 | G12: =D12/D$30 -> 0.096995264
A13: Public Safety | B13: =+Standard!B9 -> 4462070 | C13: =+Standard!C9 -> 4786701 | D13: =+C13-B13 -> 324631 | E13: =IF(B13=0,NA(),D13/B13) -> 0.072753453 | F13: =D13/D$21 -> 0.58314292 | G13: =D13/D$30 -> 0.37978132
A14: Health | B14: =+Standard!B10 -> 237466 | C14: =+Standard!C10 -> 244200 | D14: =+C14-B14 -> 6734 | E14: =IF(B14=0,NA(),D14/B14) -> 0.028357744 | F14: =D14/D$21 -> 0.012096455 | G14: =D14/D$30 -> 0.0078780136
A15: Transportation | B15: =+Standard!B11 -> 1171699 | C15: =+Standard!C11 -> 1240496 | D15: =+C15-B15 -> 68797 | E15: =IF(B15=0,NA(),D15/B15) -> 0.058715592 | F15: =D15/D$21 -> 0.1235818 | G15: =D15/D$30 -> 0.08048466
A16: Economic Assistance | B16: =+Standard!B12 -> 73700 | C16: =+Standard!C12 -> 98700 | D16: =+C16-B16 -> 25000 | E16: =IF(B16=0,NA(),D16/B16) -> 0.33921303 | F16: =D16/D$21 -> 0.044908136 | G16: =D16/D$30 -> 0.029247155
A17: Culture and Recreation ** | B17: =+Standard!B13-B6-B7 -> 1603455 | C17: =+Standard!C13-C6-C7 -> 1665223 | D17: =+C17-B17 -> 61768 | E17: =IF(B17=0,NA(),D17/B17) -> 0.038521817 | F17: =D17/D$21 -> 0.11095543 | G17: =D17/D$30 -> 0.07226153
A18: Home and Community Svcs. | B18: =+Standard!B14 -> 33400 | C18: =+Standard!C14 -> 43510 | D18: =+C18-B18 -> 10110 | E18: =IF(B18=0,NA(),D18/B18) -> 0.30269461 | F18: =D18/D$21 -> 0.01816085 | G18: =D18/D$30 -> 0.011827549
A19: Employee Benefits | B19: =+Standard!B15 -> 4461400 | C19: =+Standard!C15 -> 4462500 | D19: =+C19-B19 -> 1100 | E19: =IF(B19=0,NA(),D19/B19) -> 0.00024655938 | F19: =D19/D$21 -> 0.001975958 | G19: =D19/D$30 -> 0.0012868748
A20: Debt Service | B20: =+Standard!B16 -> 1711872 | C20: =+Standard!C16 -> 1687514 | D20: =+C20-B20 -> -24358 | E20: =IF(B20=0,NA(),D20/B20) -> -0.014228868 | F20: =D20/D$21 -> -0.043754895 | G20: =D20/D$30 -> -0.028496088
B21: =SUM(B12:B20) -> 16127716 | C21: =SUM(C12:C20) -> 16684408 | D21: =+C21-B21 -> 556692 | E21: =IF(B21=0,NA(),D21/B21) -> 0.034517721
A23: Other Fund Real Expenses
A24: Sanitation | B24: =+Standard!B20 -> 718686 | C24: =+Standard!C20 -> 733127 | D24: =+C24-B24 -> 14441 | E24: =IF(B24=0,NA(),D24/B24) -> 0.020093615 | F24: =D24/D$28 -> 0.048444775 | G24: =D24/D$30 -> 0.016894327
A25: Parking | B25: =+Standard!B21 -> 279361 | C25: =+Standard!C21 -> 280490 | D25: =+C25-B25 -> 1129 | E25: =IF(B25=0,NA(),D25/B25) -> 0.0040413658 | F25: =D25/D$28 -> 0.0037874213 | G25: =D25/D$30 -> 0.0013208015
A26: Water | B26: =+Standard!B22 -> 2646905 | C26: =+Standard!C22 -> 2908090 | D26: =+C26-B26 -> 261185 | E26: =IF(B26=0,NA(),D26/B26) -> 0.098675623 | F26: =D26/D$28 -> 0.87618923 | G26: =D26/D$30 -> 0.30555673
A27: Sewer | B27: =+Standard!B23 -> 598308 | C27: =+Standard!C23 -> 619645 | D27: =+C27-B27 -> 21337 | E27: =IF(B27=0,NA(),D27/B27) -> 0.035662234 | F27: =D27/D$28 -> 0.071578573 | G27: =D27/D$30 -> 0.024961862
B28: =SUM(B24:B27) -> 4243260 | C28: =SUM(C24:C27) -> 4541352 | D28: =+C28-B28 -> 298092 | E28: =IF(B28=0,NA(),D28/B28) -> 0.070250703
A30: Total Real Expenses | B30: =+B21+B28 -> 20370976 | C30: =+C21+C28 -> 21225760 | D30: =+C30-B30 -> 854784 | E30: =IF(B30=0,NA(),D30/B30) -> 0.041960876
A33: General Fund Revenues
A34: Real Property Tax | B34: =+Standard!B30 -> 11846289 | C34: =+Standard!C30 -> 12496699 | D34: =+Clarified!C34-Clarified!B34 -> 650410 | E34: =IF(B34=0,NA(),D34/B34) -> 0.054904114 | F34: =D34/D$45 -> 1.1252379 | G34: =D34/D$54 -> 0.85129413
A35: Other Property Tax Items | B35: =+Standard!B31 -> 550000 | C35: =+Standard!C31 -> 550000 | D35: =+Clarified!C35-Clarified!B35 -> 0 | E35: =IF(B35=0,NA(),D35/B35) -> 0 | F35: =D35/D$45 -> 0 | G35: =D35/D$54 -> 0
A36: Non Property Tax Items | B36: =+Standard!B32 -> 1655000 | C36: =+Standard!C32 -> 1655000 | D36: =+Clarified!C36-Clarified!B36 -> 0 | E36: =IF(B36=0,NA(),D36/B36) -> 0 | F36: =D36/D$45 -> 0 | G36: =D36/D$54 -> 0
A37: Departmental Income ** | B37: =+Standard!B33-B6 -> 484500 | C37: =+Standard!C33-C6 -> 484610 | D37: =+Clarified!C37-Clarified!B37 -> 110 | E37: =IF(B37=0,NA(),D37/B37) -> 0.00022703818 | F37: =D37/D$45 -> 0.00019030483 | G37: =D37/D$54 -> 0.00014397435
A38: Intergovernmental Charges | B38: =+Standard!B34 -> 14123 | C38: =+Standard!C34 -> 14123 | D38: =+Clarified!C38-Clarified!B38 -> 0 | E38: =IF(B38=0,NA(),D38/B38) -> 0 | F38: =D38/D$45 -> 0 | G38: =D38/D$54 -> 0
A39: Use of Money and Property | B39: =+Standard!B35 -> 71000 | C39: =+Standard!C35 -> 71000 | D39: =+Clarified!C39-Clarified!B39 -> 0 | E39: =IF(B39=0,NA(),D39/B39) -> 0 | F39: =D39/D$45 -> 0 | G39: =D39/D$54 -> 0
A40: Sale of Licenses and Permits | B40: =+Standard!B36 -> 544500 | C40: =+Standard!C36 -> 536500 | D40: =+Clarified!C40-Clarified!B40 -> -8000 | E40: =IF(B40=0,NA(),D40/B40) -> -0.014692378 | F40: =D40/D$45 -> -0.013840352 | G40: =D40/D$54 -> -0.010470862
A41: Fines and Forfeitures | B41: =+Standard!B37 -> 140000 | C41: =+Standard!C37 -> 75000 | D41: =+Clarified!C41-Clarified!B41 -> -65000 | E41: =IF(B41=0,NA(),D41/B41) -> -0.46428571 | F41: =D41/D$45 -> -0.11245286 | G41: =D41/D$54 -> -0.08507575
A42: Compensation for Losses | B42: =+Standard!B38 -> 75000 | C42: =+Standard!C38 -> 75000 | D42: =+Clarified!C42-Clarified!B42 -> 0 | E42: =IF(B42=0,NA(),D42/B42) -> 0 | F42: =D42/D$45 -> 0 | G42: =D42/D$54 -> 0
A43: Miscellaneous | B43: =+Standard!B39 -> 12500 | C43: =+Standard!C39 -> 13000 | D43: =+Clarified!C43-Clarified!B43 -> 500 | E43: =IF(B43=0,NA(),D43/B43) -> 0.04 | F43: =D43/D$45 -> 0.00086502197 | G43: =D43/D$54 -> 0.00065442885
A44: State Aid | B44: =+Standard!B40 -> 239684 | C44: =+Standard!C40 -> 239684 | D44: =+Clarified!C44-Clarified!B44 -> 0 | E44: =IF(B44=0,NA(),D44/B44) -> 0 | F44: =D44/D$45 -> 0 | G44: =D44/D$54 -> 0
B45: =SUM(B34:B44) -> 15632596 | C45: =SUM(C34:C44) -> 16210616 | D45: =+Clarified!C45-Clarified!B45 -> 578020 | E45: =IF(B45=0,NA(),D45/B45) -> 0.036975305
...

Sheet Standard
A1: “Standard View” of Sleepy Hollow's 2016-17 Mayor's Budget
A2: by Daniel Convissor, danielc@panix.com, @DanielConvissor. April 19, 2016.
A3: Note: “Public Safety” “2015-16 Final” number here is correct. The 2015-2016 number in the Mayor's Budget is a typo.
B5: 2015-2016 | C5: 2016-2017 | F5: % of Sect. | G5: % of Total
B6: Final | C6: Mayor's | D6: Change | E6: Change | F6: Change | G6: Change
A7: General Fund Expenses
A8: General Govt. Support | B8: 2703154 | C8: 2655564 | D8: =+C8-B8 -> -47590 | E8: =IF(B8=0,NA(),D8/B8) -> -0.01760536 | F8: =D8/D$17 -> -0.09130992 | G8: =D8/D$26 -> -0.058087306
A9: Public Safety | B9: 4462070 | C9: 4786701 | D9: =+C9-B9 -> 324631 | E9: =IF(B9=0,NA(),D9/B9) -> 0.072753453 | F9: =D9/D$17 -> 0.62286259 | G9: =D9/D$26 -> 0.39623745
A10: Health | B10: 237466 | C10: 244200 | D10: =+C10-B10 -> 6734 | E10: =IF(B10=0,NA(),D10/B10) -> 0.028357744 | F10: =D10/D$17 -> 0.012920383 | G10: =D10/D$26 -> 0.008219372
A11: Transportation | B11: 1171699 | C11: 1240496 | D11: =+C11-B11 -> 68797 | E11: =IF(B11=0,NA(),D11/B11) -> 0.058715592 | F11: =D11/D$17 -> 0.13199934 | G11: =D11/D$26 -> 0.083972102
A12: Economic Assistance | B12: 73700 | C12: 98700 | D12: =+C12-B12 -> 25000 | E12: =IF(B12=0,NA(),D12/B12) -> 0.33921303 | F12: =D12/D$17 -> 0.047966968 | G12: =D12/D$26 -> 0.030514449
A13: Culture and Recreation | B13: 1603455 | C13: 1760223 | D13: =+C13-B13 -> 156768 | E13: =IF(B13=0,NA(),D13/B13) -> 0.09776888 | F13: =D13/D$17 -> 0.30078743 | G13: =D13/D$26 -> 0.19134757
A14: Home and Community Svcs. | B14: 33400 | C14: 43510 | D14: =+C14-B14 -> 10110 | E14: =IF(B14=0,NA(),D14/B14) -> 0.30269461 | F14: =D14/D$17 -> 0.019397842 | G14: =D14/D$26 -> 0.012340043
A15: Employee Benefits | B15: 4461400 | C15: 4462500 | D15: =+C15-B15 -> 1100 | E15: =IF(B15=0,NA(),D15/B15) -> 0.00024655938 | F15: =D15/D$17 -> 0.0021105466 | G15: =D15/D$26 -> 0.0013426358
A16: Debt Service | B16: 1711872 | C16: 1687514 | D16: =+C16-B16 -> -24358 | E16: =IF(B16=0,NA(),D16/B16) -> -0.014228868 | F16: =D16/D$17 -> -0.046735176 | G16: =D16/D$26 -> -0.029730838
B17: =SUM(B8:B16) -> 16458216 | C17: =SUM(C8:C16) -> 16979408 | D17: =+C17-B17 -> 521192 | E17: =IF(B17=0,NA(),D17/B17) -> 0.031667588
A19: Other Fund Real Expenses
A20: Sanitation | B20: =+'Other Funds'!B6 -> 718686 | C20: =+'Other Funds'!C6 -> 733127 | D20: =+C20-B20 -> 14441 | E20: =IF(B20=0,NA(),D20/B20) -> 0.020093615 | F20: =D20/D$24 -> 0.048444775 | G20: =D20/D$26 -> 0.017626366
A21: Parking | B21: =+'Other Funds'!B12 -> 279361 | C21: =+'Other Funds'!C12 -> 280490 | D21: =+C21-B21 -> 1129 | E21: =IF(B21=0,NA(),D21/B21) -> 0.0040413658 | F21: =D21/D$24 -> 0.0037874213 | G21: =D21/D$26 -> 0.0013780325
A22: Water | B22: =+'Other Funds'!B18 -> 2646905 | C22: =+'Other Funds'!C18 -> 2908090 | D22: =+C22-B22 -> 261185 | E22: =IF(B22=0,NA(),D22/B22) -> 0.098675623 | F22: =D22/D$24 -> 0.87618923 | G22: =D22/D$26 -> 0.31879666
A23: Sewer | B23: =+'Other Funds'!B24 -> 598308 | C23: =+'Other Funds'!C24 -> 619645 | D23: =+C23-B23 -> 21337 | E23: =IF(B23=0,NA(),D23/B23) -> 0.035662234 | F23: =D23/D$24 -> 0.071578573 | G23: =D23/D$26 -> 0.026043472
B24: =SUM(B20:B23) -> 4243260 | C24: =SUM(C20:C23) -> 4541352 | D24: =+C24-B24 -> 298092 | E24: =IF(B24=0,NA(),D24/B24) -> 0.070250703
A26: Total Real Expenses | B26: =+B17+B24 -> 20701476 | C26: =+C17+C24 -> 21520760 | D26: =+C26-B26 -> 819284 | E26: =IF(B26=0,NA(),D26/B26) -> 0.039576115
A29: General Fund Revenues
A30: Real Property Tax | B30: 11846289 | C30: 12496699 | D30: =+Standard!C30-Standard!B30 -> 650410 | E30: =IF(B30=0,NA(),D30/B30) -> 0.054904114 | F30: =D30/D$41 -> 0.99600319 | G30: =D30/D$50 -> 0.7751974
A31: Other Property Tax Items | B31: 550000 | C31: 550000 | D31: =+Standard!C31-Standard!B31 -> 0 | E31: =IF(B31=0,NA(),D31/B31) -> 0 | F31: =D31/D$41 -> 0 | G31: =D31/D$50 -> 0
A32: Non Property Tax Items | B32: 1655000 | C32: 1655000 | D32: =+Standard!C32-Standard!B32 -> 0 | E32: =IF(B32=0,NA(),D32/B32) -> 0 | F32: =D32/D$41 -> 0 | G32: =D32/D$50 -> 0
A33: Departmental Income | B33: 484500 | C33: 559610 | D33: =+Standard!C33-Standard!B33 -> 75110 | E33: =IF(B33=0,NA(),D33/B33) -> 0.1550258 | F33: =D33/D$41 -> 0.11501945 | G33: =D33/D$50 -> 0.089520574
A34: Intergovernmental Charges | B34: 14123 | C34: 14123 | D34: =+Standard!C34-Standard!B34 -> 0 | E34: =IF(B34=0,NA(),D34/B34) -> 0 | F34: =D34/D$41 -> 0 | G34: =D34/D$50 -> 0
A35: Use of Money and Property | B35: 71000 | C35: 71000 | D35: =+Standard!C35-Standard!B35 -> 0 | E35: =IF(B35=0,NA(),D35/B35) -> 0 | F35: =D35/D$41 -> 0 | G35: =D35/D$50 -> 0
A36: Sale of Licenses and Permits | B36: 544500 | C36: 536500 | D36: =+Standard!C36-Standard!B36 -> -8000 | E36: =IF(B36=0,NA(),D36/B36) -> -0.014692378 | F36: =D36/D$41 -> -0.012250773 | G36: =D36/D$50 -> -0.0095348768
A37: Fines and Forfeitures | B37: 140000 | C37: 75000 | D37: =+Standard!C37-Standard!B37 -> -65000 | E37: =IF(B37=0,NA(),D37/B37) -> -0.46428571 | F37: =D37/D$41 -> -0.099537533 | G37: =D37/D$50 -> -0.077470874
A38: Compensation for Losses | B38: 75000 | C38: 75000 | D38: =+Standard!C38-Standard!B38 -> 0 | E38: =IF(B38=0,NA(),D38/B38) -> 0 | F38: =D38/D$41 -> 0 | G38: =D38/D$50 -> 0
A39: Miscellaneous | B39: 12500 | C39: 13000 | D39: =+Standard!C39-Standard!B39 -> 500 | E39: =IF(B39=0,NA(),D39/B39) -> 0.04 | F39: =D39/D$41 -> 0.00076567333 | G39: =D39/D$50 -> 0.0005959298
A40: State Aid | B40: 239684 | C40: 239684 | D40: =+Standard!C40-Standard!B40 -> 0 | E40: =IF(B40=0,NA(),D40/B40) -> 0 | F40: =D40/D$41 -> 0 | G40: =D40/D$50 -> 0
B41: 15632596 | C41: 16285616 | D41: =+Standard!C41-Standard!B41 -> 653020 | E41: =IF(B41=0,NA(),D41/B41) -> 0.041772972
A43: Other Fund Real Revenues
A44: Sanitation | B44: =+'Other Funds'!B7 -> 519000 | C44: =+'Other Funds'!C7 -> 522360 | D44: =+C44-B44 -> 3360 | E44: =IF(B44=0,NA(),D44/B44) -> 0.0064739884 | F44: =D44/D$48 -> 0.018064031 | G44: =D44/D$50 -> 0.0040046483
A45: Parking | B45: =+'Other Funds'!B15 -> 375000 | C45: =+'Other Funds'!C15 -> 375000 | D45: =+C45-B45 -> 0 | E45: =IF(B45=0,NA(),D45/B45) -> 0 | F45: =D45/D$48 -> 0 | G45: =D45/D$50 -> 0
A46: Water | B46: =+'Other Funds'!B21 -> 3518000 | C46: =+'Other Funds'!C21 -> 3718000 | D46: =+C46-B46 -> 200000 | E46: =IF(B46=0,NA(),D46/B46) -> 0.056850483 | F46: =D46/D$48 -> 1.0752399 | G46: =D46/D$50 -> 0.23837192
...

Sheet Other Funds
A1: Other Funds, Sleepy Hollow's 2016-17 “Mayor's Budget”
B3: 2015-2016 | C3: 2016-2017
B4: Final | C4: Mayor's | D4: Change | E4: Change
A5: Sanitation Fund
A6: Expenses | B6: 718686 | C6: 733127 | D6: =+'Other Funds'!C6-'Other Funds'!B6 -> 14441 | E6: =IF(B6=0,NA(),D6/B6) -> 0.020093615
A7: Real Revenue | B7: =+B9-B8 -> 519000 | C7: =+C9-C8 -> 522360 | D7: =+'Other Funds'!C7-'Other Funds'!B7 -> 3360 | E7: =IF(B7=0,NA(),D7/B7) -> 0.0064739884
A8: Interfund Transfer (subsidy) | B8: 199686 | C8: 210767 | D8: =+'Other Funds'!C8-'Other Funds'!B8 -> 11081 | E8: =IF(B8=0,NA(),D8/B8) -> 0.055492123
A9: Total “Revenue” | B9: 718686 | C9: 733127 | D9: =+'Other Funds'!C9-'Other Funds'!B9 -> 14441 | E9: =IF(B9=0,NA(),D9/B9) -> 0.020093615
A11: Parking Fund
A12: Real Expenses | B12: =+B14+B13 -> 279361 | C12: =+C14+C13 -> 280490 | D12: =+'Other Funds'!C12-'Other Funds'!B12 -> 1129 | E12: =IF(B12=0,NA(),D12/B12) -> 0.0040413658
A13: Interfund Transfer | B13: -95639 | C13: -94510 | D13: =+'Other Funds'!C13-'Other Funds'!B13 -> 1129 | E13: =IF(B13=0,NA(),D13/B13) -> -0.011804808
A14: Total “Expenses” | B14: 375000 | C14: 375000 | D14: =+'Other Funds'!C14-'Other Funds'!B14 -> 0 | E14: =IF(B14=0,NA(),D14/B14) -> 0
A15: Revenue | B15: 375000 | C15: 375000 | D15: =+'Other Funds'!C15-'Other Funds'!B15 -> 0 | E15: =IF(B15=0,NA(),D15/B15) -> 0
A17: Water Fund
A18: Real Expenses | B18: =+B20+B19 -> 2646905 | C18: =+C20+C19 -> 2908090 | D18: =+'Other Funds'!C18-'Other Funds'!B18 -> 261185 | E18: =IF(B18=0,NA(),D18/B18) -> 0.098675623
A19: Interfund Transfer | B19: -871095 | C19: -809910 | D19: =+'Other Funds'!C19-'Other Funds'!B19 -> 61185 | E19: =IF(B19=0,NA(),D19/B19) -> -0.070239182
A20: Total “Expenses” | B20: 3518000 | C20: 3718000 | D20: =+'Other Funds'!C20-'Other Funds'!B20 -> 200000 | E20: =IF(B20=0,NA(),D20/B20) -> 0.056850483
A21: Revenue | B21: 3518000 | C21: 3718000 | D21: =+'Other Funds'!C21-'Other Funds'!B21 -> 200000 | E21: =IF(B21=0,NA(),D21/B21) -> 0.056850483
A23: Sewer Fund
A24: Real Expenses | B24: =+B26+B25 -> 598308 | C24: =+C26+C25 -> 619645 | D24: =+'Other Funds'!C24-'Other Funds'!B24 -> 21337 | E24: =IF(B24=0,NA(),D24/B24) -> 0.035662234
A25: Interfund Transfer | B25: -38692 | C25: 0 | D25: =+'Other Funds'!C25-'Other Funds'!B25 -> 38692 | E25: =IF(B25=0,NA(),D25/B25) -> -1
A26: Total “Expenses” | B26: 637000 | C26: 619645 | D26: =+'Other Funds'!C26-'Other Funds'!B26 -> -17355 | E26: =IF(B26=0,NA(),D26/B26) -> -0.027244898
A27: Revenue | B27: 637000 | C27: 619645 | D27: =+'Other Funds'!C27-'Other Funds'!B27 -> -17355 | E27: =IF(B27=0,NA(),D27/B27) -> -0.027244898

Sheet Police Wages
A1: Police Department Wages
B3: 2015-16 Final | F3: 2016-17 Mayor's | J3: Change/Person | L3: Change Total
A5: Police Chief (80%) | B5: 1 | C5: 122224 | D5: =+B5*C5 -> 122224 | F5: 1 | G5: 124668 | H5: =+F5*G5 -> 124668 | J5: =+G5-C5 -> 2444 | K5: =+J5/C5 -> 0.019996073 | L5: =+H5-D5 -> 2444 | M5: =IF(D5=0,NA(),L5/D5) -> 0.019996073
A6: Lieutenant | B6: 2 | C6: 118552 | D6: =+B6*C6 -> 237104 | F6: 3 | G6: 129583 | H6: =+F6*G6 -> 388749 | J6: =+G6-C6 -> 11031 | K6: =+J6/C6 -> 0.093047777 | L6: =+H6-D6 -> 151645 | M6: =IF(D6=0,NA(),L6/D6) -> 0.63957166
A7: Sergeant/Detective | B7: 1 | C7: 111805 | D7: =+B7*C7 -> 111805 | F7: 1 | G7: 122208 | H7: =+F7*G7 -> 122208 | J7: =+G7-C7 -> 10403 | K7: =+J7/C7 -> 0.093045928 | L7: =+H7-D7 -> 10403 | M7: =IF(D7=0,NA(),L7/D7) -> 0.093045928
A8: Sergeant | B8: 5 | C8: 109878 | D8: =+B8*C8 -> 549390 | F8: 5 | G8: 120102 | H8: =+F8*G8 -> 600510 | J8: =+G8-C8 -> 10224 | K8: =+J8/C8 -> 0.093048654 | L8: =+H8-D8 -> 51120 | M8: =IF(D8=0,NA(),L8/D8) -> 0.093048654
A9: Detective Patrolman/SRO | B9: 1 | C9: 107949 | D9: =+B9*C9 -> 107949 | F9: 1.5 | G9: 117994 | H9: =+F9*G9 -> 176991 | J9: =+G9-C9 -> 10045 | K9: =+J9/C9 -> 0.093053201 | L9: =+H9-D9 -> 69042 | M9: =IF(D9=0,NA(),L9/D9) -> 0.6395798
A10: Patrolman I | B10: 13 | C10: 96384 | D10: =+B10*C10 -> 1252992 | F10: 10 | G10: 105352 | H10: =+F10*G10 -> 1053520 | J10: =+G10-C10 -> 8968 | K10: =+J10/C10 -> 0.093044489 | L10: =+H10-D10 -> -199472 | M10: =IF(D10=0,NA(),L10/D10) -> -0.15919655
A11: Patrolman II | B11: 0 | C11: 81310 | D11: =+B11*C11 -> 0 | F11: 1 | G11: 88875 | H11: =+F11*G11 -> 88875 | J11: =+G11-C11 -> 7565 | K11: =+J11/C11 -> 0.093038987 | L11: =+H11-D11 -> 88875 | M11: =IF(D11=0,NA(),L11/D11)
A12: Patrolman III | B12: 1 | C12: 68911 | D12: =+B12*C12 -> 68911 | F12: 4 | G12: 75323 | H12: =+F12*G12 -> 301292 | J12: =+G12-C12 -> 6412 | K12: =+J12/C12 -> 0.093047554 | L12: =+H12-D12 -> 232381 | M12: =IF(D12=0,NA(),L12/D12) -> 3.3721902
A13: Patrolman IV | B13: 1 | C13: 57412 | D13: =+B13*C13 -> 57412 | F13: 0 | G13: 62754 | H13: =+F13*G13 -> 0 | J13: =+G13-C13 -> 5342 | K13: =+J13/C13 -> 0.09304675 | L13: =+H13-D13 -> -57412 | M13: =IF(D13=0,NA(),L13/D13) -> -1
A14: Uncertified Police Officer | B14: 2 | C14: 45930 | D14: =+B14*C14 -> 91860 | F14: 0 | G14: 50203 | H14: =+F14*G14 -> 0 | J14: =+G14-C14 -> 4273 | K14: =+J14/C14 -> 0.093032876 | L14: =+H14-D14 -> -91860 | M14: =IF(D14=0,NA(),L14/D14) -> -1
B15: =SUM(B5:B14) -> 27 | D15: =SUM(D5:D14) -> 2599647 | F15: =SUM(F5:F14) -> 26.5 | H15: =SUM(H5:H14) -> 2856813 | L15: =+H15-D15 -> 257166 | M15: =IF(D15=0,NA(),L15/D15) -> 0.098923431
A17: Overtime | D17: 450000 | H17: 450000 | L17: =+H17-D17 -> 0 | M17: =IF(D17=0,NA(),L17/D17) -> 0
A18: Part Time/Clerical | D18: 127000 | H18: 135000 | L18: =+H18-D18 -> 8000 | M18: =IF(D18=0,NA(),L18/D18) -> 0.062992126
A19: Longevity | D19: 39938 | H19: 38488 | L19: =+H19-D19 -> -1450 | M19: =IF(D19=0,NA(),L19/D19) -> -0.036306275
A20: Out of Title | D20: 0 | H20: 20000 | L20: =+H20-D20 -> 20000 | M20: =IF(D20=0,NA(),L20/D20)
A21: Holiday Pay | D21: 138972 | H21: 155028 | L21: =+H21-D21 -> 16056 | M21: =IF(D21=0,NA(),L21/D21) -> 0.11553406
A22: Personal Incentive | D22: 53519 | H22: 60478 | L22: =+H22-D22 -> 6959 | M22: =IF(D22=0,NA(),L22/D22) -> 0.13002859
A23: Sick Incentive | D23: 39580 | H23: 47174 | L23: =+H23-D23 -> 7594 | M23: =IF(D23=0,NA(),L23/D23) -> 0.19186458
A24: EMT Stipend | D24: 10500 | H24: 4300 | L24: =+H24-D24 -> -6200 | M24: =IF(D24=0,NA(),L24/D24) -> -0.59047619
D25: =SUM(D17:D24) -> 859509 | H25: =SUM(H17:H24) -> 910468 | L25: =+H25-D25 -> 50959 | M25: =IF(D25=0,NA(),L25/D25) -> 0.059288501
A26: Total Police Wages (A3120.1) | D26: =+D25+D15 -> 3459156 | H26: =+H25+H15 -> 3767281 | L26: =H26-D26 -> 308125 | M26: =IF(D26=0,NA(),L26/D26) -> 0.089075196

Sheet Police Contractual
A1: Police Department Contractual Expense Detail (A3120.400)
A3: 2015/2016 | B3: 2016/2017 | E3: % of Section
A4: Amended | B4: Mayor's | C4: Change | D4: Change | E4: Change
A6: 6200 | B6: 6800 | C6: =+B6-A6 -> 600 | D6: =IF(A6=0,NA(),C6/A6) -> 0.096774194 | E6: =C6/C$30 -> 0.065217391 | F6: .410 Materials & Supplies
A7: 3500 | B7: 3500 | C7: =+B7-A7 -> 0 | D7: =IF(A7=0,NA(),C7/A7) -> 0 | E7: =C7/C$30 -> 0 | F7: .411 Office Supplies
A8: 34000 | B8: 34000 | C8: =+B8-A8 -> 0 | D8: =IF(A8=0,NA(),C8/A8) -> 0 | E8: =C8/C$30 -> 0 | F8: .412 Uniforms
A9: 6500 | B9: 6500 | C9: =+B9-A9 -> 0 | D9: =IF(A9=0,NA(),C9/A9) -> 0 | E9: =C9/C$30 -> 0 | F9: .420 Telephone
A10: 14000 | B10: 16000 | C10: =+B10-A10 -> 2000 | D10: =IF(A10=0,NA(),C10/A10) -> 0.14285714 | E10: =C10/C$30 -> 0.2173913 | F10: .421 Cell Phone
A11: 220 | B11: 220 | C11: =+B11-A11 -> 0 | D11: =IF(A11=0,NA(),C11/A11) -> 0 | E11: =C11/C$30 -> 0 | F11: .423 Utilities
A12: 2500 | B12: 2500 | C12: =+B12-A12 -> 0 | D12: =IF(A12=0,NA(),C12/A12) -> 0 | E12: =C12/C$30 -> 0 | F12: .440 Printing & Advertising
A13: 2500 | B13: 2800 | C13: =+B13-A13 -> 300 | D13: =IF(A13=0,NA(),C13/A13) -> 0.12 | E13: =C13/C$30 -> 0.032608696 | F13: .441 Detective Division
A14: 2500 | B14: 2500 | C14: =+B14-A14 -> 0 | D14: =IF(A14=0,NA(),C14/A14) -> 0 | E14: =C14/C$30 -> 0 | F14: .442 Patrol Division
A15: 1500 | B15: 1500 | C15: =+B15-A15 -> 0 | D15: =IF(A15=0,NA(),C15/A15) -> 0 | E15: =C15/C$30 -> 0 | F15: .443 Bike Patrol
A16: 2000 | B16: 2000 | C16: =+B16-A16 -> 0 | D16: =IF(A16=0,NA(),C16/A16) -> 0 | E16: =C16/C$30 -> 0 | F16: .444 Quartermaster
A17: 17500 | B17: 18500 | C17: =+B17-A17 -> 1000 | D17: =IF(A17=0,NA(),C17/A17) -> 0.057142857 | E17: =C17/C$30 -> 0.10869565 | F17: .448 IT Consultants
... A28: 4500 | B28: 4500 | C28: =+B28-A28 -> 0 | D28: =IF(A28=0,NA(),C28/A28) -> 0 | E28: =C28/C$30 -> 0 | F28: .499 Contractual Expenses
A30: =SUM(A6:A29) -> 185370 | B30: =SUM(B6:B29) -> 194570 | C30: =SUM(C6:C29) -> 9200 | D30: =IF(A30=0,NA(),C30/A30) -> 0.049630469 | F30: A3120.400 Total

Sheet Parks Contractual
A1: Parks Maintenance Contractual Expenses (A7110.400)
A3: 2015/2016 | B3: 2016/2017 | E3: % of Section
A4: Amended | B4: Mayor's | C4: Change | D4: Change | E4: Change
A6: 1500 | B6: 1500 | C6: =+B6-A6 -> 0 | D6: =IF(A6=0,NA(),C6/A6) -> 0 | E6: =C6/C$21 -> 0 | F6: .412 Uniforms
A7: 700 | B7: 700 | C7: =+B7-A7 -> 0 | D7: =IF(A7=0,NA(),C7/A7) -> 0 | E7: =C7/C$21 -> 0 | F7: .421 Cell Phone
A8: 18000 | B8: 18000 | C8: =+B8-A8 -> 0 | D8: =IF(A8=0,NA(),C8/A8) -> 0 | E8: =C8/C$21 -> 0 | F8: .423 Utilities
A9: 0 | B9: 0 | C9: =+B9-A9 -> 0 | D9: =IF(A9=0,NA(),C9/A9) | E9: =C9/C$21 -> 0 | F9: .461 Vehicle Maintenance & Repair
A10: 2500 | B10: 3500 | C10: =+B10-A10 -> 1000 | D10: =IF(A10=0,NA(),C10/A10) -> 0.4 | E10: =C10/C$21 -> 0.060606061 | F10: .490 Barnhardt Park
A11: 13000 | B11: 15000 | C11: =+B11-A11 -> 2000 | D11: =IF(A11=0,NA(),C11/A11) -> 0.15384615 | E11: =C11/C$21 -> 0.12121212 | F11: .491 Devries Park
A12: 500 | B12: 500 | C12: =+B12-A12 -> 0 | D12: =IF(A12=0,NA(),C12/A12) -> 0 | E12: =C12/C$21 -> 0 | F12: .492 Douglas Park
A13: 10000 | B13: 15000 | C13: =+B13-A13 -> 5000 | D13: =IF(A13=0,NA(),C13/A13) -> 0.5 | E13: =C13/C$21 -> 0.3030303 | F13: .493 Kingsland Point Park
A14: 4000 | B14: 4000 | C14: =+B14-A14 -> 0 | D14: =IF(A14=0,NA(),C14/A14) -> 0 | E14: =C14/C$21 -> 0 | F14: .494 Sykes Park
A15: 5000 | B15: 10000 | C15: =+B15-A15 -> 5000 | D15: =IF(A15=0,NA(),C15/A15) -> 1 | E15: =C15/C$21 -> 0.3030303 | F15: .495 Flowers
A16: 2000 | B16: 2000 | C16: =+B16-A16 -> 0 | D16: =IF(A16=0,NA(),C16/A16) -> 0 | E16: =C16/C$21 -> 0 | F16: .496 John Horan Park
A17: 1000 | B17: 1000 | C17: =+B17-A17 -> 0 | D17: =IF(A17=0,NA(),C17/A17) -> 0 | E17: =C17/C$21 -> 0 | F17: .497 Lighthouse Tour
... A19: 8500 | B19: 12000 | C19: =+B19-A19 -> 3500 | D19: =IF(A19=0,NA(),C19/A19) -> 0.41176471 | E19: =C19/C$21 -> 0.21212121 | F19: .499 Contractual Expenses
A21: =SUM(A6:A20) -> 67700 | B21: =SUM(B6:B20) -> 84200 | C21: =SUM(C6:C20) -> 16500 | D21: =IF(A21=0,NA(),C21/A21) -> 0.2437223 | F21: A7110.400 Total

Sheet Fire Contractual
A1: Fire Contractual Expenses (A3410.400)
A3: 2015/2016 | B3: 2016/2017 | E3: % of Section
A4: Amended | B4: Mayor's | C4: Change | D4: Change | E4: Change
A6: 0 | B6: 1000 | C6: =+B6-A6 -> 1000 | D6: =IF(A6=0,NA(),C6/A6) -> #N/A | E6: =+C6/C$28 -> 0.038387716 | F6: .410 Materials & Supplies
A7: 1000 | B7: 1200 | C7: =+B7-A7 -> 200 | D7: =IF(A7=0,NA(),C7/A7) -> 0.2 | E7: =+C7/C$28 -> 0.0076775432 | F7: .411 Office Supplies
A8: 5000 | B8: 6000 | C8: =+B8-A8 -> 1000 | D8: =IF(A8=0,NA(),C8/A8) -> 0.2 | E8: =+C8/C$28 -> 0.038387716 | F8: .412 Uniforms
A9: 450 | B9: 600 | C9: =+B9-A9 -> 150 | D9: =IF(A9=0,NA(),C9/A9) -> 0.33333333 | E9: =+C9/C$28 -> 0.0057581574 | F9: .415 Cleaning Supplies
A10: 4000 | B10: 6000 | C10: =+B10-A10 -> 2000 | D10: =IF(A10=0,NA(),C10/A10) -> 0.5 | E10: =+C10/C$28 -> 0.076775432 | F10: .418 Snow Watch
A11: 0 | B11: 0 | C11: =+B11-A11 -> 0 | D11: =IF(A11=0,NA(),C11/A11) | E11: =+C11/C$28 -> 0 | F11: .420 Telephone
A12: 1100 | B12: 1700 | C12: =+B12-A12 -> 600 | D12: =IF(A12=0,NA(),C12/A12) -> 0.54545455 | E12: =+C12/C$28 -> 0.02303263 | F12: .421 Cell Phone
A13: 70000 | B13: 75000 | C13: =+B13-A13 -> 5000 | D13: =IF(A13=0,NA(),C13/A13) -> 0.071428571 | E13: =+C13/C$28 -> 0.19193858 | F13: .423 Utilities
A14: 10000 | B14: 20000 | C14: =+B14-A14 -> 10000 | D14: =IF(A14=0,NA(),C14/A14) -> 1 | E14: =+C14/C$28 -> 0.38387716 | F14: .425 Protective Gear
A15: 0 | B15: 0 | C15: =+B15-A15 -> 0 | D15: =IF(A15=0,NA(),C15/A15) | E15: =+C15/C$28 -> 0 | F15: .452 Equipment Lease or Rental
A16: 0 | B16: 0 | C16: =+B16-A16 -> 0 | D16: =IF(A16=0,NA(),C16/A16) | E16: =+C16/C$28 -> 0 | F16: .460 Postage
A17: 45000 | B17: 45000 | C17: =+B17-A17 -> 0 | D17: =IF(A17=0,NA(),C17/A17) -> 0 | E17: =+C17/C$28 -> 0 | F17: .461 Vehicle Maintenance & Repair
... A26: 9000 | B26: 10200 | C26: =+B26-A26 -> 1200 | D26: =IF(A26=0,NA(),C26/A26) -> 0.13333333 | E26: =+C26/C$28 -> 0.046065259 | F26: .499 Contractual Expenses
A28: =SUM(A6:A27) -> 200050 | B28: =SUM(B6:B27) -> 226100 | C28: =+B28-A28 -> 26050 | D28: =IF(A28=0,NA(),C28/A28) -> 0.13021745 | F28: A3410.400 Total
